BEGIN:VCALENDAR
VERSION:2.0
PRODID:-//Squarespace Inc/Squarespace 6//v6//EN
BEGIN:VEVENT
UID:578f09e9c534a5c08c453b4b@squarespace.com
DTSTAMP:20160729T112329Z
DTSTART:20160805T080000Z
DTEND:20160806T070000Z
SUMMARY:Contemporary Jewellery Pop-Up Shop
GEO:-33.917477;151.156411
LOCATION:SquarePeg Studios\, 10 Junction Street\, Marrickville\, NSW\, 2204
 \, Australia
END:VEVENT
END:VCALENDAR
