BEGIN:VCALENDAR
VERSION:2.0
PRODID:-//Squarespace Inc/Squarespace 6//v6//EN
BEGIN:VEVENT
UID:59f8fdd1e31d19ae52838e53@squarespace.com
DTSTAMP:20171031T225540Z
DTSTART:20171201T070000Z
DTEND:20171202T050000Z
SUMMARY:Festive Season Party\, Market\, Exhibition and Open Studio
END:VEVENT
END:VCALENDAR
